BEGIN:VCALENDAR
VERSION:2.0
PRODID:-//eventon.com NONSGML v1.0//EN
CALSCALE:GREGORIAN
METHOD:PUBLISH
BEGIN:VEVENT
UID:69eb318fec6d4
DTSTAMP:20260424T090207Z
DTSTART:20240303T190000Z
DTEND:20240303T200000Z
LOCATION:All Saints Church Church Street
SUMMARY:8:00am Holy Communion
DESCRIPTION:8:00am Holy Communion\nhttps://www.allsaintsclaytonlemoors.org/
 events/800am-holy-communion-63/
URL:https://www.allsaintsclaytonlemoors.org/events/800am-holy-communion-63/
END:VEVENT
END:VCALENDAR