BEGIN:VCALENDAR
VERSION:2.0
PRODID:-//eventon.com NONSGML v1.0//EN
CALSCALE:GREGORIAN
METHOD:PUBLISH
BEGIN:VEVENT
UID:69e9eaa51facd
DTSTAMP:20260423T094717Z
DTSTART:20240210T213000Z
DTEND:20240210T223000Z
LOCATION:All Saints Church Church Street
SUMMARY:Baptism Preparation Meeting
DESCRIPTION:Baptism Preparation Meeting\nhttps://www.allsaintsclaytonlemoor
 s.org/events/baptism-preparation-meeting-7/
URL:https://www.allsaintsclaytonlemoors.org/events/baptism-preparation-meeting-7/
END:VEVENT
END:VCALENDAR