BEGIN:VCALENDAR
VERSION:2.0
PRODID:-//eventon.com NONSGML v1.0//EN
CALSCALE:GREGORIAN
METHOD:PUBLISH
BEGIN:VEVENT
UID:69e9d617a1ce7
DTSTAMP:20260423T081935Z
DTSTART:20240826T010000Z
DTEND:20240826T020000Z
LOCATION:St James&#039; Church Altham Burnley Road\,  Altham
SUMMARY:Baptism
DESCRIPTION:Baptism\nhttps://www.allsaintsclaytonlemoors.org/events/baptism
 -52/
URL:https://www.allsaintsclaytonlemoors.org/events/baptism-52/
END:VEVENT
END:VCALENDAR