BEGIN:VCALENDAR
VERSION:2.0
PRODID:-//eventon.com NONSGML v1.0//EN
CALSCALE:GREGORIAN
METHOD:PUBLISH
BEGIN:VEVENT
UID:69e738b32f787
DTSTAMP:20260421T084331Z
DTSTART:20240606T193000Z
DTEND:20240606T213000Z
LOCATION:
SUMMARY:Start of our Faithfest Mission Weekend
DESCRIPTION:Start of our Faithfest Mission Weekend\nhttps://www.allsaintscl
 aytonlemoors.org/events/start-of-mission-weekend/
URL:https://www.allsaintsclaytonlemoors.org/events/start-of-mission-weekend/
END:VEVENT
END:VCALENDAR