BEGIN:VCALENDAR
VERSION:2.0
PRODID:-//eventon.com NONSGML v1.0//EN
CALSCALE:GREGORIAN
METHOD:PUBLISH
BEGIN:VEVENT
UID:69eb3185ae1e5
DTSTAMP:20260424T090157Z
DTSTART:20240515T210000Z
DTEND:20240515T220000Z
LOCATION:All Saints Church Church Street
SUMMARY:10:00 am  - Holy Communion
DESCRIPTION:10:00 am - Holy Communion\nhttps://www.allsaintsclaytonlemoors.
 org/events/1000-am-holy-communion-14/
URL:https://www.allsaintsclaytonlemoors.org/events/1000-am-holy-communion-14/
END:VEVENT
END:VCALENDAR