BEGIN:VCALENDAR
VERSION:2.0
PRODID:-//eventon.com NONSGML v1.0//EN
CALSCALE:GREGORIAN
METHOD:PUBLISH
BEGIN:VEVENT
UID:69e5e17c5687e
DTSTAMP:20260420T081908Z
DTSTART:20240509T060000Z
DTEND:20240509T083000Z
LOCATION:
SUMMARY:Mothers' Union -  Theatre trip - ‘Sunshine on Leith'
DESCRIPTION:Mothers' Union - Theatre trip - ‘Sunshine on Leith'\nhttps://
 www.allsaintsclaytonlemoors.org/events/mothers-union-theatre-trip-sunshine-
 on-leith/
URL:https://www.allsaintsclaytonlemoors.org/events/mothers-union-theatre-trip-sunshine-on-leith/
END:VEVENT
END:VCALENDAR