BEGIN:VCALENDAR
VERSION:2.0
PRODID:-//eventon.com NONSGML v1.0//EN
CALSCALE:GREGORIAN
METHOD:PUBLISH
BEGIN:VEVENT
UID:69e9d9a11170a
DTSTAMP:20260423T083441Z
DTSTART:20240612T060000Z
DTEND:20240612T083000Z
LOCATION:All Saints&#039; School Winckley Road
SUMMARY:Mothers' Union - Metamorphosis
DESCRIPTION:Mothers' Union - Metamorphosis\nhttps://www.allsaintsclaytonlem
 oors.org/events/mothers-union-metamorphosis-5/
URL:https://www.allsaintsclaytonlemoors.org/events/mothers-union-metamorphosis-5/
END:VEVENT
END:VCALENDAR