BEGIN:VCALENDAR
VERSION:2.0
PRODID:-//eventon.com NONSGML v1.0//EN
CALSCALE:GREGORIAN
METHOD:PUBLISH
BEGIN:VEVENT
UID:69e4e6a71de46
DTSTAMP:20260419T142855Z
DTSTART:20240619T060000Z
DTEND:20240619T083000Z
LOCATION:All Saints&#039; School Winckley Road
SUMMARY:Mothers' Union -  DIY - Mosquito drive!
DESCRIPTION:Mothers' Union - DIY - Mosquito drive!\nhttps://www.allsaintscl
 aytonlemoors.org/events/mothers-union-diy-mosquito-drive/
URL:https://www.allsaintsclaytonlemoors.org/events/mothers-union-diy-mosquito-drive/
END:VEVENT
END:VCALENDAR