BEGIN:VCALENDAR
VERSION:2.0
PRODID:-//eventon.com NONSGML v1.0//EN
CALSCALE:GREGORIAN
METHOD:PUBLISH
BEGIN:VEVENT
UID:69e9eaca1338d
DTSTAMP:20260423T094754Z
DTSTART:20240710T060000Z
DTEND:20240710T083000Z
LOCATION:All Saints&#039; School Winckley Road
SUMMARY:Mothers' Union -  Metamorphosis
DESCRIPTION:Mothers' Union - Metamorphosis\nhttps://www.allsaintsclaytonlem
 oors.org/events/mothers-union-metamorphosis-6/
URL:https://www.allsaintsclaytonlemoors.org/events/mothers-union-metamorphosis-6/
END:VEVENT
END:VCALENDAR