BEGIN:VCALENDAR
VERSION:2.0
PRODID:-//eventon.com NONSGML v1.0//EN
CALSCALE:GREGORIAN
METHOD:PUBLISH
BEGIN:VEVENT
UID:69e739706feb7
DTSTAMP:20260421T084640Z
DTSTART:20240820T123000Z
DTEND:20240820T150000Z
LOCATION:All Saints Church Church Street
SUMMARY:Adults craft afternoon - for Harvest
DESCRIPTION:Adults craft afternoon - for Harvest\nhttps://www.allsaintsclay
 tonlemoors.org/events/adults-craft-afternoon-for-harvest/
URL:https://www.allsaintsclaytonlemoors.org/events/adults-craft-afternoon-for-harvest/
END:VEVENT
END:VCALENDAR