BEGIN:VCALENDAR
VERSION:2.0
PRODID:-//eventon.com NONSGML v1.0//EN
CALSCALE:GREGORIAN
METHOD:PUBLISH
BEGIN:VEVENT
UID:69eb2ffd7fa1b
DTSTAMP:20260424T085525Z
DTSTART:20241011T130000Z
DTEND:20241011T150000Z
LOCATION:All Saints Church Church Street
SUMMARY:Harvest Flower Festival Opening Day
DESCRIPTION:Harvest Flower Festival Opening Day\nhttps://www.allsaintsclayt
 onlemoors.org/events/harvest-flower-festival/
URL:https://www.allsaintsclaytonlemoors.org/events/harvest-flower-festival/
END:VEVENT
END:VCALENDAR