BEGIN:VCALENDAR
VERSION:2.0
PRODID:-//eventon.com NONSGML v1.0//EN
CALSCALE:GREGORIAN
METHOD:PUBLISH
BEGIN:VEVENT
UID:69e73480543b8
DTSTAMP:20260421T082536Z
DTSTART:20250608T220000Z
DTEND:20250608T110000Z
LOCATION:All Saints Church Church Street
SUMMARY:11:00am Pentecost Sunday -  Family Service and Church Parade
DESCRIPTION:11:00am Pentecost Sunday - Family Service and Church Parade\nht
 tps://www.allsaintsclaytonlemoors.org/events/1100am-sunday-family-service-a
 nd-church-parade-4/
URL:https://www.allsaintsclaytonlemoors.org/events/1100am-sunday-family-service-and-church-parade-4/
END:VEVENT
END:VCALENDAR