BEGIN:VCALENDAR
VERSION:2.0
PRODID:-//eventon.com NONSGML v1.0//EN
CALSCALE:GREGORIAN
METHOD:PUBLISH
BEGIN:VEVENT
UID:69e4e8594396d
DTSTAMP:20260419T143609Z
DTSTART:20250713T220000Z
DTEND:20250713T110000Z
LOCATION:All Saints Church Church Street
SUMMARY:11:00am Sunday -  Family Service and Church Parade
DESCRIPTION:11:00am Sunday - Family Service and Church Parade\nhttps://www.
 allsaintsclaytonlemoors.org/events/1100am-sunday-family-service-and-church-
 parade-5/
URL:https://www.allsaintsclaytonlemoors.org/events/1100am-sunday-family-service-and-church-parade-5/
END:VEVENT
END:VCALENDAR