BEGIN:VCALENDAR
VERSION:2.0
PRODID:-//eventon.com NONSGML v1.0//EN
CALSCALE:GREGORIAN
METHOD:PUBLISH
BEGIN:VEVENT
UID:69e5311b31249
DTSTAMP:20260419T194635Z
DTSTART:20241003T011500Z
DTEND:20241003T021500Z
LOCATION:All Saints Church Church Street
SUMMARY:Tots Praise
DESCRIPTION:Tots Praise\nhttps://www.allsaintsclaytonlemoors.org/events/tot
 s-praise-2/
URL:https://www.allsaintsclaytonlemoors.org/events/tots-praise-2/
END:VEVENT
END:VCALENDAR