BEGIN:VCALENDAR
VERSION:2.0
PRODID:-//eventon.com NONSGML v1.0//EN
CALSCALE:GREGORIAN
METHOD:PUBLISH
BEGIN:VEVENT
UID:69e4e7bb29f69
DTSTAMP:20260419T143331Z
DTSTART:20240930T010000Z
DTEND:20240930T020000Z
LOCATION:All Saints Church Church Street
SUMMARY:Baptism
DESCRIPTION:Baptism\nhttps://www.allsaintsclaytonlemoors.org/events/baptism
 -12/
URL:https://www.allsaintsclaytonlemoors.org/events/baptism-12/
END:VEVENT
END:VCALENDAR