BEGIN:VCALENDAR
VERSION:2.0
PRODID:-//eventon.com NONSGML v1.0//EN
CALSCALE:GREGORIAN
METHOD:PUBLISH
BEGIN:VEVENT
UID:69e9eb6a6fa5c
DTSTAMP:20260423T095034Z
DTSTART:20240908T220000Z
DTEND:20240908T110000Z
LOCATION:All Saints Church Church Street
SUMMARY:Sunday - 11:00am  Morning Worship
DESCRIPTION:Sunday - 11:00am Morning Worship\nhttps://www.allsaintsclaytonl
 emoors.org/events/sunday-1100am-morning-worship/
URL:https://www.allsaintsclaytonlemoors.org/events/sunday-1100am-morning-worship/
END:VEVENT
END:VCALENDAR