BEGIN:VCALENDAR
VERSION:2.0
PRODID:-//eventon.com NONSGML v1.0//EN
CALSCALE:GREGORIAN
METHOD:PUBLISH
BEGIN:VEVENT
UID:69e9d9f24b40b
DTSTAMP:20260423T083602Z
DTSTART:20240929T220000Z
DTEND:20240929T110000Z
LOCATION:All Saints Church Church Street
SUMMARY:11:00am Sunday -  Family Service
DESCRIPTION:11:00am Sunday - Family Service\nhttps://www.allsaintsclaytonle
 moors.org/events/1100am-sunday-family-service-2/
URL:https://www.allsaintsclaytonlemoors.org/events/1100am-sunday-family-service-2/
END:VEVENT
END:VCALENDAR