BEGIN:VCALENDAR
VERSION:2.0
PRODID:-//eventon.com NONSGML v1.0//EN
CALSCALE:GREGORIAN
METHOD:PUBLISH
BEGIN:VEVENT
UID:69eb305d056da
DTSTAMP:20260424T085701Z
DTSTART:20241222T183000Z
DTEND:20241222T193000Z
LOCATION:
SUMMARY:Nine Lessons and Carols
DESCRIPTION:Nine Lessons and Carols\nhttps://www.allsaintsclaytonlemoors.or
 g/events/nine-lessons-and-carols/
URL:https://www.allsaintsclaytonlemoors.org/events/nine-lessons-and-carols/
END:VEVENT
END:VCALENDAR