BEGIN:VCALENDAR
VERSION:2.0
PRODID:-//eventon.com NONSGML v1.0//EN
CALSCALE:GREGORIAN
METHOD:PUBLISH
BEGIN:VEVENT
UID:69e738b2e34e2
DTSTAMP:20260421T084330Z
DTSTART:20241003T173000Z
DTEND:20241003T183000Z
LOCATION:
SUMMARY:3rd October - Dashboard Hub training
DESCRIPTION:3rd October - Dashboard Hub training\nhttps://www.allsaintsclay
 tonlemoors.org/events/3rd-october-dashboard-hub-training/
URL:https://www.allsaintsclaytonlemoors.org/events/3rd-october-dashboard-hub-training/
END:VEVENT
END:VCALENDAR