BEGIN:VCALENDAR
VERSION:2.0
PRODID:-//eventon.com NONSGML v1.0//EN
CALSCALE:GREGORIAN
METHOD:PUBLISH
BEGIN:VEVENT
UID:69e8858b5bcfa
DTSTAMP:20260422T082339Z
DTSTART:20241216T180000Z
DTEND:20241216T184500Z
LOCATION:
SUMMARY:Little Sparks Christmas Songs
DESCRIPTION:Little Sparks Christmas Songs\nhttps://www.allsaintsclaytonlemo
 ors.org/events/little-sparks-christmas-songs/
URL:https://www.allsaintsclaytonlemoors.org/events/little-sparks-christmas-songs/
END:VEVENT
END:VCALENDAR