BEGIN:VCALENDAR
VERSION:2.0
PRODID:-//eventon.com NONSGML v1.0//EN
CALSCALE:GREGORIAN
METHOD:PUBLISH
BEGIN:VEVENT
UID:69e739706e412
DTSTAMP:20260421T084640Z
DTSTART:20250311T193000Z
DTEND:20250311T213000Z
LOCATION:All Saints Church Church Street
SUMMARY:Mothers' Union - Women of Holy Week - Miriam’s story
DESCRIPTION:Mothers' Union - Women of Holy Week - Miriam’s story\nhttps:/
 /www.allsaintsclaytonlemoors.org/events/mothers-union-women-of-holy-week-mi
 riams-story/
URL:https://www.allsaintsclaytonlemoors.org/events/mothers-union-women-of-holy-week-miriams-story/
END:VEVENT
END:VCALENDAR