BEGIN:VCALENDAR
VERSION:2.0
PRODID:-//eventon.com NONSGML v1.0//EN
CALSCALE:GREGORIAN
METHOD:PUBLISH
BEGIN:VEVENT
UID:69e9d8c7e0995
DTSTAMP:20260423T083103Z
DTSTART:20250418T100000Z
DTEND:20250418T110000Z
LOCATION:
SUMMARY:Good Friday
DESCRIPTION:Good Friday\nhttps://www.allsaintsclaytonlemoors.org/events/goo
 d-friday/
URL:https://www.allsaintsclaytonlemoors.org/events/good-friday/
END:VEVENT
END:VCALENDAR