BEGIN:VCALENDAR
VERSION:2.0
PRODID:-//eventon.com NONSGML v1.0//EN
CALSCALE:GREGORIAN
METHOD:PUBLISH
BEGIN:VEVENT
UID:69eb3202988fc
DTSTAMP:20260424T090402Z
DTSTART:20250202T220000Z
DTEND:20250202T110000Z
LOCATION:All Saints Church Church Street
SUMMARY:Sunday - 11:00am   Sung Communion Service
DESCRIPTION:Sunday - 11:00am Sung Communion Service\nhttps://www.allsaintsc
 laytonlemoors.org/events/sunday-1100am-sung-communion-service-10/
URL:https://www.allsaintsclaytonlemoors.org/events/sunday-1100am-sung-communion-service-10/
END:VEVENT
END:VCALENDAR