BEGIN:VCALENDAR
VERSION:2.0
PRODID:-//eventon.com NONSGML v1.0//EN
CALSCALE:GREGORIAN
METHOD:PUBLISH
BEGIN:VEVENT
UID:69e9d5a9a1868
DTSTAMP:20260423T081745Z
DTSTART:20250418T063000Z
DTEND:20250418T073000Z
LOCATION:
SUMMARY:Maunday Thursday
DESCRIPTION:Maunday Thursday\nhttps://www.allsaintsclaytonlemoors.org/event
 s/maunday-thursday/
URL:https://www.allsaintsclaytonlemoors.org/events/maunday-thursday/
END:VEVENT
END:VCALENDAR