BEGIN:VCALENDAR
VERSION:2.0
PRODID:-//eventon.com NONSGML v1.0//EN
CALSCALE:GREGORIAN
METHOD:PUBLISH
BEGIN:VEVENT
UID:69e73990946f8
DTSTAMP:20260421T084712Z
DTSTART:20250305T210000Z
DTEND:20250305T220000Z
LOCATION:All Saints Church Church Street
SUMMARY:10:00am - Ash Wednesday Holy Communion with ash
DESCRIPTION:10:00am - Ash Wednesday Holy Communion with ash\nhttps://www.al
 lsaintsclaytonlemoors.org/events/1000am-ash-wednesday-holy-communion-with-a
 sh/
URL:https://www.allsaintsclaytonlemoors.org/events/1000am-ash-wednesday-holy-communion-with-ash/
END:VEVENT
END:VCALENDAR