BEGIN:VCALENDAR
VERSION:2.0
PRODID:-//eventon.com NONSGML v1.0//EN
CALSCALE:GREGORIAN
METHOD:PUBLISH
BEGIN:VEVENT
UID:69e6288cf3e84
DTSTAMP:20260420T132220Z
DTSTART:20250803T220000Z
DTEND:20250803T110000Z
LOCATION:All Saints Church Church Street
SUMMARY:Sunday - 11:00am   Sung Communion Service
DESCRIPTION:Sunday - 11:00am Sung Communion Service\nhttps://www.allsaintsc
 laytonlemoors.org/events/sunday-1100am-sung-communion-service-14/
URL:https://www.allsaintsclaytonlemoors.org/events/sunday-1100am-sung-communion-service-14/
END:VEVENT
END:VCALENDAR