BEGIN:VCALENDAR
VERSION:2.0
PRODID:-//eventon.com NONSGML v1.0//EN
CALSCALE:GREGORIAN
METHOD:PUBLISH
BEGIN:VEVENT
UID:69e9d9464a477
DTSTAMP:20260423T083310Z
DTSTART:20250131T113000Z
DTEND:20250131T133000Z
LOCATION:
SUMMARY:Community Lunch and Purple Praise
DESCRIPTION:Community Lunch and Purple Praise\nhttps://www.allsaintsclayton
 lemoors.org/events/community-lunch-and-purple-praise/
URL:https://www.allsaintsclaytonlemoors.org/events/community-lunch-and-purple-praise/
END:VEVENT
END:VCALENDAR