BEGIN:VCALENDAR
VERSION:2.0
PRODID:-//eventon.com NONSGML v1.0//EN
CALSCALE:GREGORIAN
METHOD:PUBLISH
BEGIN:VEVENT
UID:69e887c849c4c
DTSTAMP:20260422T083312Z
DTSTART:20251002T011500Z
DTEND:20251002T021500Z
LOCATION:All Saints Church Church Street
SUMMARY:Tots' Praise
DESCRIPTION:Tots' Praise\nhttps://www.allsaintsclaytonlemoors.org/events/to
 ts-praise-24/
URL:https://www.allsaintsclaytonlemoors.org/events/tots-praise-24/
END:VEVENT
END:VCALENDAR