BEGIN:VCALENDAR
VERSION:2.0
PRODID:-//eventon.com NONSGML v1.0//EN
CALSCALE:GREGORIAN
METHOD:PUBLISH
BEGIN:VEVENT
UID:69eb4ab46dcbe
DTSTAMP:20260424T104924Z
DTSTART:20251106T011500Z
DTEND:20251106T021500Z
LOCATION:All Saints Church Church Street
SUMMARY:Tots' Praise
DESCRIPTION:Tots' Praise\nhttps://www.allsaintsclaytonlemoors.org/events/to
 ts-praise-25/
URL:https://www.allsaintsclaytonlemoors.org/events/tots-praise-25/
END:VEVENT
END:VCALENDAR