BEGIN:VCALENDAR
VERSION:2.0
PRODID:-//eventon.com NONSGML v1.0//EN
CALSCALE:GREGORIAN
METHOD:PUBLISH
BEGIN:VEVENT
UID:69e4cf8957584
DTSTAMP:20260419T125017Z
DTSTART:20251212T063000Z
DTEND:20251212T083000Z
LOCATION:All Saints Church Church Street
SUMMARY:Thursday - PCC Meeting
DESCRIPTION:Thursday - PCC Meeting\nhttps://www.allsaintsclaytonlemoors.org
 /events/thursday-pcc-meeting-5/
URL:https://www.allsaintsclaytonlemoors.org/events/thursday-pcc-meeting-5/
END:VEVENT
END:VCALENDAR