BEGIN:VCALENDAR
VERSION:2.0
PRODID:-//eventon.com NONSGML v1.0//EN
CALSCALE:GREGORIAN
METHOD:PUBLISH
BEGIN:VEVENT
UID:69e7388c66aca
DTSTAMP:20260421T084252Z
DTSTART:20250331T053000Z
DTEND:20250331T063000Z
LOCATION:All Saints Church Church Street
SUMMARY:Sunday  6:30pm - Evening Holy Communion Service
DESCRIPTION:Sunday 6:30pm - Evening Holy Communion Service\nhttps://www.all
 saintsclaytonlemoors.org/events/sunday-630pm-evening-holy-communion-service
 /
URL:https://www.allsaintsclaytonlemoors.org/events/sunday-630pm-evening-holy-communion-service/
END:VEVENT
END:VCALENDAR