BEGIN:VCALENDAR
VERSION:2.0
PRODID:-//eventon.com NONSGML v1.0//EN
CALSCALE:GREGORIAN
METHOD:PUBLISH
BEGIN:VEVENT
UID:69e63b36becb4
DTSTAMP:20260420T144158Z
DTSTART:20250916T130000Z
DTEND:20250916T140000Z
LOCATION:
SUMMARY:Mothers’ Union - Quiet Hour - St. Paul’s Oswaldtwistle
DESCRIPTION:Mothers’ Union - Quiet Hour - St. Paul’s Oswaldtwistle\nhtt
 ps://www.allsaintsclaytonlemoors.org/events/mothers-union-quiet-hour-st-pau
 ls-oswaldtwistle/
URL:https://www.allsaintsclaytonlemoors.org/events/mothers-union-quiet-hour-st-pauls-oswaldtwistle/
END:VEVENT
END:VCALENDAR