BEGIN:VCALENDAR
VERSION:2.0
PRODID:-//eventon.com NONSGML v1.0//EN
CALSCALE:GREGORIAN
METHOD:PUBLISH
BEGIN:VEVENT
UID:69e6526d96d59
DTSTAMP:20260420T162101Z
DTSTART:20250923T183000Z
DTEND:20250923T203000Z
LOCATION:All Saints Church Church Street
SUMMARY:Mothers’ Union - Rise Up activity + raffle
DESCRIPTION:Mothers’ Union - Rise Up activity + raffle\nhttps://www.allsa
 intsclaytonlemoors.org/events/mothers-union-rise-up-activity/
URL:https://www.allsaintsclaytonlemoors.org/events/mothers-union-rise-up-activity/
END:VEVENT
END:VCALENDAR