BEGIN:VCALENDAR
VERSION:2.0
PRODID:-//eventon.com NONSGML v1.0//EN
CALSCALE:GREGORIAN
METHOD:PUBLISH
BEGIN:VEVENT
UID:69e6699f5e341
DTSTAMP:20260420T175959Z
DTSTART:20250930T183000Z
DTEND:20250930T203000Z
LOCATION:All Saints Church Church Street
SUMMARY:Mothers’ Union - Goa Slum
DESCRIPTION:Mothers’ Union - Goa Slum\nhttps://www.allsaintsclaytonlemoor
 s.org/events/mothers-union-goa-slum/
URL:https://www.allsaintsclaytonlemoors.org/events/mothers-union-goa-slum/
END:VEVENT
END:VCALENDAR