BEGIN:VCALENDAR
VERSION:2.0
PRODID:-//eventon.com NONSGML v1.0//EN
CALSCALE:GREGORIAN
METHOD:PUBLISH
BEGIN:VEVENT
UID:69e6403b39fda
DTSTAMP:20260420T150323Z
DTSTART:20251203T190000Z
DTEND:20251203T213000Z
LOCATION:Mill House Clayton - le - Moors
SUMMARY:Mothers’ Union - Christmas dinner
DESCRIPTION:Mothers’ Union - Christmas dinner\nhttps://www.allsaintsclayt
 onlemoors.org/events/mothers-union-christmas-dinner/
URL:https://www.allsaintsclaytonlemoors.org/events/mothers-union-christmas-dinner/
END:VEVENT
END:VCALENDAR