BEGIN:VCALENDAR
VERSION:2.0
PRODID:-//eventon.com NONSGML v1.0//EN
CALSCALE:GREGORIAN
METHOD:PUBLISH
BEGIN:VEVENT
UID:69e73911a9eac
DTSTAMP:20260421T084505Z
DTSTART:20251221T183000Z
DTEND:20251221T193000Z
LOCATION:
SUMMARY:9 Lessons and Carols
DESCRIPTION:9 Lessons and Carols\nhttps://www.allsaintsclaytonlemoors.org/e
 vents/9-lessons-and-carols/
URL:https://www.allsaintsclaytonlemoors.org/events/9-lessons-and-carols/
END:VEVENT
END:VCALENDAR