BEGIN:VCALENDAR
VERSION:2.0
PRODID:-//eventon.com NONSGML v1.0//EN
CALSCALE:GREGORIAN
METHOD:PUBLISH
BEGIN:VEVENT
UID:69e9ef9a6bdd8
DTSTAMP:20260423T100826Z
DTSTART:20251225T030000Z
DTEND:20251225T040000Z
LOCATION:All Saints Church Church Street
SUMMARY:Crib Service
DESCRIPTION:Crib Service\nhttps://www.allsaintsclaytonlemoors.org/events/cr
 ib-service-3/
URL:https://www.allsaintsclaytonlemoors.org/events/crib-service-3/
END:VEVENT
END:VCALENDAR