BEGIN:VCALENDAR
VERSION:2.0
PRODID:-//eventon.com NONSGML v1.0//EN
CALSCALE:GREGORIAN
METHOD:PUBLISH
BEGIN:VEVENT
UID:69e739119bf73
DTSTAMP:20260421T084505Z
DTSTART:20260421T183000Z
DTEND:20260421T203000Z
LOCATION:
SUMMARY:Mothers’ Union - Evening with St Margaret’s MU Hapton
DESCRIPTION:150th Anniversary Service\,  quiz and refreshments\nhttps://www
 .allsaintsclaytonlemoors.org/events/mothers-union-evening-with-st-margarets
 -mu-hapton/
URL:https://www.allsaintsclaytonlemoors.org/events/mothers-union-evening-with-st-margarets-mu-hapton/
END:VEVENT
END:VCALENDAR