BEGIN:VCALENDAR
VERSION:2.0
PRODID:-//eventon.com NONSGML v1.0//EN
CALSCALE:GREGORIAN
METHOD:PUBLISH
BEGIN:VEVENT
UID:69e739896f97a
DTSTAMP:20260421T084705Z
DTSTART:20260407T183000Z
DTEND:20260407T203000Z
LOCATION:
SUMMARY:Mothers’ Union - Spring flower demonstration & crafting
DESCRIPTION:Mothers’ Union - Spring flower demonstration & crafting\nhttp
 s://www.allsaintsclaytonlemoors.org/events/mothers-union-spring-flower-demo
 nstration-crafting/
URL:https://www.allsaintsclaytonlemoors.org/events/mothers-union-spring-flower-demonstration-crafting/
END:VEVENT
END:VCALENDAR