BEGIN:VCALENDAR
VERSION:2.0
PRODID:-//eventon.com NONSGML v1.0//EN
CALSCALE:GREGORIAN
METHOD:PUBLISH
BEGIN:VEVENT
UID:69e9d47c6191e
DTSTAMP:20260423T081244Z
DTSTART:20260315T220000Z
DTEND:20260315T110000Z
LOCATION:All Saints Church Church Street
SUMMARY:Sunday - 11:00am   Mothering Sunday Family Service & Youth Parade
DESCRIPTION:Sunday - 11:00am Mothering Sunday Family Service & Youth Parade
 \nhttps://www.allsaintsclaytonlemoors.org/events/sunday-1100am-mothering-su
 nday-family-service-youth-parade-3/
URL:https://www.allsaintsclaytonlemoors.org/events/sunday-1100am-mothering-sunday-family-service-youth-parade-3/
END:VEVENT
END:VCALENDAR