BEGIN:VCALENDAR
VERSION:2.0
PRODID:-//eventon.com NONSGML v1.0//EN
CALSCALE:GREGORIAN
METHOD:PUBLISH
BEGIN:VEVENT
UID:69e4ce19acbbb
DTSTAMP:20260419T124409Z
DTSTART:20260222T220000Z
DTEND:20260222T230000Z
LOCATION:
SUMMARY:No Sunday School  - Half - term
DESCRIPTION:No Sunday School - Half - term\nhttps://www.allsaintsclaytonlem
 oors.org/events/no-sunday-school-half-term-3/
URL:https://www.allsaintsclaytonlemoors.org/events/no-sunday-school-half-term-3/
END:VEVENT
END:VCALENDAR