BEGIN:VCALENDAR
VERSION:2.0
PRODID:-//eventon.com NONSGML v1.0//EN
CALSCALE:GREGORIAN
METHOD:PUBLISH
BEGIN:VEVENT
UID:69e9d90f32b7a
DTSTAMP:20260423T083215Z
DTSTART:20260201T220000Z
DTEND:20260201T230000Z
LOCATION:
SUMMARY:Sunday School
DESCRIPTION:Sunday School\nhttps://www.allsaintsclaytonlemoors.org/events/s
 unday-school-11/
URL:https://www.allsaintsclaytonlemoors.org/events/sunday-school-11/
END:VEVENT
END:VCALENDAR