BEGIN:VCALENDAR
VERSION:2.0
PRODID:-//eventon.com NONSGML v1.0//EN
CALSCALE:GREGORIAN
METHOD:PUBLISH
BEGIN:VEVENT
UID:69e9d98c64d62
DTSTAMP:20260423T083420Z
DTSTART:20260903T011500Z
DTEND:20260903T021500Z
LOCATION:All Saints Church Church Street
SUMMARY:Tots’ Praise - Follow Me Fishers of Men
DESCRIPTION:Tots’ Praise - Follow Me Fishers of Men\nhttps://www.allsaint
 sclaytonlemoors.org/events/tots-praise-follow-me-fishers-of-men/
URL:https://www.allsaintsclaytonlemoors.org/events/tots-praise-follow-me-fishers-of-men/
END:VEVENT
END:VCALENDAR