BEGIN:VCALENDAR
VERSION:2.0
PRODID:-//eventon.com NONSGML v1.0//EN
CALSCALE:GREGORIAN
METHOD:PUBLISH
BEGIN:VEVENT
UID:69e9d9684b370
DTSTAMP:20260423T083344Z
DTSTART:20261112T011500Z
DTEND:20261112T021500Z
LOCATION:All Saints Church Church Street
SUMMARY:Tots’ Praise - The Lost Sheep
DESCRIPTION:Tots’ Praise - The Lost Sheep\nhttps://www.allsaintsclaytonle
 moors.org/events/tots-praise-the-lost-sheep/
URL:https://www.allsaintsclaytonlemoors.org/events/tots-praise-the-lost-sheep/
END:VEVENT
END:VCALENDAR