BEGIN:VCALENDAR
VERSION:2.0
PRODID:-//eventon.com NONSGML v1.0//EN
CALSCALE:GREGORIAN
METHOD:PUBLISH
BEGIN:VEVENT
UID:69e9eaee58ab7
DTSTAMP:20260423T094830Z
DTSTART:20261203T011500Z
DTEND:20261203T021500Z
LOCATION:All Saints Church Church Street
SUMMARY:Tots’ Praise - Good News - Angel Gabriel
DESCRIPTION:Tots’ Praise - Good News - Angel Gabriel\nhttps://www.allsain
 tsclaytonlemoors.org/events/tots-praise-good-news-angel-gabriel/
URL:https://www.allsaintsclaytonlemoors.org/events/tots-praise-good-news-angel-gabriel/
END:VEVENT
END:VCALENDAR