BEGIN:VCALENDAR
VERSION:2.0
PRODID:-//eventon.com NONSGML v1.0//EN
CALSCALE:GREGORIAN
METHOD:PUBLISH
BEGIN:VEVENT
UID:69e888a362690
DTSTAMP:20260422T083651Z
DTSTART:20260131T050000Z
DTEND:20260131T053000Z
LOCATION:All Saints Church Church Street
SUMMARY:Friday Praise
DESCRIPTION:Friday Praise\nhttps://www.allsaintsclaytonlemoors.org/events/f
 riday-praise-19/
URL:https://www.allsaintsclaytonlemoors.org/events/friday-praise-19/
END:VEVENT
END:VCALENDAR